BEGIN:VCALENDAR
VERSION:2.0
PRODID:-//Verein IG des Kantons Zug - ECPv6.15.20//NONSGML v1.0//EN
CALSCALE:GREGORIAN
METHOD:PUBLISH
X-WR-CALNAME:Verein IG des Kantons Zug
X-ORIGINAL-URL:https://www.ig-zug.ch
X-WR-CALDESC:Veranstaltungen im Verein IG des Kantons Zug
REFRESH-INTERVAL;VALUE=DURATION:PT1H
X-Robots-Tag:noindex
X-PUBLISHED-TTL:PT1H
BEGIN:VTIMEZONE
TZID:Europe/Zurich
BEGIN:DAYLIGHT
TZOFFSETFROM:+0100
TZOFFSETTO:+0200
TZNAME:CEST
DTSTART:20250330T010000
END:DAYLIGHT
BEGIN:STANDARD
TZOFFSETFROM:+0200
TZOFFSETTO:+0100
TZNAME:CET
DTSTART:20251026T010000
END:STANDARD
BEGIN:DAYLIGHT
TZOFFSETFROM:+0100
TZOFFSETTO:+0200
TZNAME:CEST
DTSTART:20260329T010000
END:DAYLIGHT
BEGIN:STANDARD
TZOFFSETFROM:+0200
TZOFFSETTO:+0100
TZNAME:CET
DTSTART:20261025T010000
END:STANDARD
BEGIN:DAYLIGHT
TZOFFSETFROM:+0100
TZOFFSETTO:+0200
TZNAME:CEST
DTSTART:20270328T010000
END:DAYLIGHT
BEGIN:STANDARD
TZOFFSETFROM:+0200
TZOFFSETTO:+0100
TZNAME:CET
DTSTART:20271031T010000
END:STANDARD
END:VTIMEZONE
BEGIN:VEVENT
DTSTART;TZID=Europe/Zurich:20260320T071000
DTEND;TZID=Europe/Zurich:20260320T090000
DTSTAMP:20260423T210523
CREATED:20260312T132701Z
LAST-MODIFIED:20260312T132701Z
UID:5648-1773990600-1773997200@www.ig-zug.ch
SUMMARY:Eid-Gebet 2026
DESCRIPTION:Das Bajram-Gebet (Eid-Gebet) wird am Freitag\, den 20. März\, um 07:10 Uhr verrichtet. Wir laden alle Gemeindemitglieder herzlich ein\, etwas früher zu kommen\, damit wir diesen grossen Feiertag gemeinsam in einem Geist der Gemeinschaft\, Dankbarkeit und Freude beginnen können. Nach dem Gebet folgt das gegenseitige Beglückwünschen und ein gemeinsames Beisammensein.
URL:https://www.ig-zug.ch/program/eid-gebet-2026/
LOCATION:Verein IG des Kantons Zug\, Sumpfstrasse 1\, Steinhausen\, 6312
END:VEVENT
BEGIN:VEVENT
DTSTART;TZID=Europe/Zurich:20260502T133000
DTEND;TZID=Europe/Zurich:20260502T150000
DTSTAMP:20260423T210523
CREATED:20260405T210216Z
LAST-MODIFIED:20260405T220922Z
UID:5918-1777728600-1777734000@www.ig-zug.ch
SUMMARY:Ikrar-Dua 2026 – Hadschis des Vereins IG Zug 2026
DESCRIPTION:Die Zeit der letzten Vorbereitungen für den diesjährigen Hadsch rückt näher\, und der Termin für die gemeinsame Ikrar-Dua für die Hadschis des Vereins IG Zug ist am Samstag\, den 02.05.2026\, nach dem Mittagsgebet um 13:28 Uhr. \nDie diesjährigen Hadschis (und Mitglieder) des Vereins IG Zug\, die die heiligen Stätten in Mekka und Medina besuchen werden\, sind: \n\n\n\nAsim Bureković (CH)\n⁠Nermina Mehmedović (CH)\n⁠Senada Sprečak (CH)\n⁠Zijada Kadrić (CH)\n⁠Zumra Jusufović (BiH)\n⁠Osman & Safija Ramić (BiH)\n⁠Husein ef. & Šemsa Džankić (BiH) \n⁠Sadat Zoronjić (MNE)\n⁠Zuhdija & Nusreta Bešo (CH)\n⁠Adnan & Suvada Bešo (CH)\n⁠Hasan & Hava Đedović (BiH)\n\n\n\nDaher ist es uns eine Ehre und Freude\, Sie zur gemeinsamen Ikrar-Dua für die Hadschis und Hadschinnen des Vereins IG Zug einzuladen. Seien Sie Teil der Freude und der besonderen Atmosphäre dieser Ikrar-Dua. Möge Gott allen die Reise zum Hadsch erleichtern und die Ikrar-Dua zum Wohlgefallen aller Hadschis annehmen. \nBujrum und herzlich willkommen.\nVereinsausschuss des Vereins IG Zug
URL:https://www.ig-zug.ch/program/ikrar-dua-2026/
LOCATION:Verein IG des Kantons Zug\, Sumpfstrasse 1\, Steinhausen\, 6312
ATTACH;FMTTYPE=image/webp:https://www.ig-zug.ch/wp-content/uploads/ikrar_bg.webp
END:VEVENT
END:VCALENDAR